BEGIN:VCALENDAR
VERSION:2.0
PRODID:JMS Hockey
X-PUBLISHED-TTL:P1W
BEGIN:VEVENT
UID:69e7afd93e1f7
DTSTART:20161024T014000Z
SEQUENCE:0
TRANSP:OPAQUE
DTEND:20161024T025000Z
URL:http://jmshockey.com/league/game/757
LOCATION:Doug Woog Arena (Wakota)
SUMMARY:Hot Dish vs. Rubber Puckies at Doug Woog Arena (Wakota) (Loon State
  Hockey Leagues)
CLASS:PUBLIC
DTSTAMP:20260421T121153Z
END:VEVENT
END:VCALENDAR