BEGIN:VCALENDAR
VERSION:2.0
PRODID:JMS Hockey
X-PUBLISHED-TTL:P1W
BEGIN:VEVENT
UID:69e7ba212bdd1
DTSTART:20161212T022000Z
SEQUENCE:0
TRANSP:OPAQUE
DTEND:20161212T033000Z
URL:http://jmshockey.com/league/game/750
LOCATION:Doug Woog Arena (Wakota)
SUMMARY:Trevor Stole Our Name..... vs. Lamplighters at Doug Woog Arena (Wak
 ota) (Loon State Hockey Leagues)
CLASS:PUBLIC
DTSTAMP:20260421T125545Z
END:VEVENT
END:VCALENDAR