BEGIN:VCALENDAR
VERSION:2.0
PRODID:JMS Hockey
X-PUBLISHED-TTL:P1W
BEGIN:VEVENT
UID:69e7ae0a1250c
DTSTART:20161121T034000Z
SEQUENCE:0
TRANSP:OPAQUE
DTEND:20161121T045000Z
URL:http://jmshockey.com/league/game/747
LOCATION:Doug Woog Arena (Wakota)
SUMMARY:Trevor Stole Our Name..... vs. Dream Crushers at Doug Woog Arena (W
 akota) (Loon State Hockey Leagues)
CLASS:PUBLIC
DTSTAMP:20260421T120410Z
END:VEVENT
END:VCALENDAR