BEGIN:VCALENDAR
VERSION:2.0
PRODID:JMS Hockey
X-PUBLISHED-TTL:P1W
BEGIN:VEVENT
UID:69e7af973ab99
DTSTART:20161010T014000Z
SEQUENCE:0
TRANSP:OPAQUE
DTEND:20161010T025000Z
URL:http://jmshockey.com/league/game/736
LOCATION:Doug Woog Arena (Wakota)
SUMMARY:Trevor Stole Our Name..... vs. Hatrick Swayze at Doug Woog Arena (W
 akota) (Loon State Hockey Leagues)
CLASS:PUBLIC
DTSTAMP:20260421T121047Z
END:VEVENT
END:VCALENDAR