BEGIN:VCALENDAR
VERSION:2.0
PRODID:JMS Hockey
X-PUBLISHED-TTL:P1W
BEGIN:VEVENT
UID:69e7a40deb106
DTSTART:20161107T040000Z
SEQUENCE:0
TRANSP:OPAQUE
DTEND:20161107T051500Z
URL:http://jmshockey.com/league/game/731
LOCATION:Maple Grove
SUMMARY:lb Cakes vs. Fourplay at Maple Grove (Loon State Hockey Leagues)
CLASS:PUBLIC
DTSTAMP:20260421T112133Z
END:VEVENT
END:VCALENDAR