BEGIN:VCALENDAR
VERSION:2.0
PRODID:JMS Hockey
X-PUBLISHED-TTL:P1W
BEGIN:VEVENT
UID:69e7afd70e4e2
DTSTART:20161010T021500Z
SEQUENCE:0
TRANSP:OPAQUE
DTEND:20161010T033000Z
URL:http://jmshockey.com/league/game/723
LOCATION:Maple Grove
SUMMARY:Mid-Ice Crisis!! vs. lb Cakes at Maple Grove (Loon State Hockey Lea
 gues)
CLASS:PUBLIC
DTSTAMP:20260421T121151Z
END:VEVENT
END:VCALENDAR