BEGIN:VCALENDAR
VERSION:2.0
PRODID:JMS Hockey
X-PUBLISHED-TTL:P1W
BEGIN:VEVENT
UID:69e7afd793ff6
DTSTART:20160926T011500Z
SEQUENCE:0
TRANSP:OPAQUE
DTEND:20160926T023000Z
URL:http://jmshockey.com/league/game/719
LOCATION:Maple Grove
SUMMARY:Mid-Ice Crisis!! vs. Yetis at Maple Grove (Loon State Hockey League
 s)
CLASS:PUBLIC
DTSTAMP:20260421T121151Z
END:VEVENT
END:VCALENDAR