BEGIN:VCALENDAR
VERSION:2.0
PRODID:JMS Hockey
X-PUBLISHED-TTL:P1W
BEGIN:VEVENT
UID:69e7d8c273c84
DTSTART:20160919T004500Z
SEQUENCE:0
TRANSP:OPAQUE
DTEND:20160919T020000Z
URL:http://jmshockey.com/league/game/717
LOCATION:Maple Grove
SUMMARY:lb Cakes vs. Mid-Ice Crisis!! at Maple Grove (Loon State Hockey Lea
 gues)
CLASS:PUBLIC
DTSTAMP:20260421T150626Z
END:VEVENT
END:VCALENDAR