BEGIN:VCALENDAR
VERSION:2.0
PRODID:JMS Hockey
X-PUBLISHED-TTL:P1W
BEGIN:VEVENT
UID:69e7afd73b871
DTSTART:20161101T013000Z
SEQUENCE:0
TRANSP:OPAQUE
DTEND:20161101T024500Z
URL:http://jmshockey.com/league/game/711
LOCATION:Eden Prairie Comm Ctr
SUMMARY:Uncle Chubbys vs. EP 2/3 Fall 2016 Team 3 at Eden Prairie Comm Ctr 
 (Loon State Hockey Leagues)
CLASS:PUBLIC
DTSTAMP:20260421T121151Z
END:VEVENT
END:VCALENDAR