BEGIN:VCALENDAR
VERSION:2.0
PRODID:JMS Hockey
X-PUBLISHED-TTL:P1W
BEGIN:VEVENT
UID:69e7afcc1221e
DTSTART:20161004T004500Z
SEQUENCE:0
TRANSP:OPAQUE
DTEND:20161004T020000Z
URL:http://jmshockey.com/league/game/702
LOCATION:Eden Prairie Comm Ctr
SUMMARY:GOALTATOES vs. EP 2/3 Fall 2016 Team 3 at Eden Prairie Comm Ctr (Lo
 on State Hockey Leagues)
CLASS:PUBLIC
DTSTAMP:20260421T121140Z
END:VEVENT
END:VCALENDAR