BEGIN:VCALENDAR
VERSION:2.0
PRODID:JMS Hockey
X-PUBLISHED-TTL:P1W
BEGIN:VEVENT
UID:69e7a7eae133c
DTSTART:20161205T014500Z
SEQUENCE:0
TRANSP:OPAQUE
DTEND:20161205T030000Z
URL:http://jmshockey.com/league/game/691
LOCATION:Eden Prairie Comm Ctr
SUMMARY:Beer League Racers vs. Olson's Heroes at Eden Prairie Comm Ctr (Loo
 n State Hockey Leagues)
CLASS:PUBLIC
DTSTAMP:20260421T113802Z
END:VEVENT
END:VCALENDAR