BEGIN:VCALENDAR
VERSION:2.0
PRODID:JMS Hockey
X-PUBLISHED-TTL:P1W
BEGIN:VEVENT
UID:69e7b5ed8d17d
DTSTART:20140714T020000Z
SEQUENCE:0
TRANSP:OPAQUE
DTEND:20140714T020000Z
URL:http://jmshockey.com/league/game/69
LOCATION:Eden Prairie Comm Ctr
SUMMARY:Elsinore Eh vs. Stick Magnets at Eden Prairie Comm Ctr (Loon State 
 Hockey Leagues)
CLASS:PUBLIC
DTSTAMP:20260421T123749Z
END:VEVENT
END:VCALENDAR