BEGIN:VCALENDAR
VERSION:2.0
PRODID:JMS Hockey
X-PUBLISHED-TTL:P1W
BEGIN:VEVENT
UID:69e7b5ed0a921
DTSTART:20161107T031500Z
SEQUENCE:0
TRANSP:OPAQUE
DTEND:20161107T043000Z
URL:http://jmshockey.com/league/game/686
LOCATION:Eden Prairie Comm Ctr
SUMMARY:Olson's Heroes vs. Beer League Racers at Eden Prairie Comm Ctr (Loo
 n State Hockey Leagues)
CLASS:PUBLIC
DTSTAMP:20260421T123749Z
END:VEVENT
END:VCALENDAR