BEGIN:VCALENDAR
VERSION:2.0
PRODID:JMS Hockey
X-PUBLISHED-TTL:P1W
BEGIN:VEVENT
UID:69e7b5ecbbeb3
DTSTART:20161031T021500Z
SEQUENCE:0
TRANSP:OPAQUE
DTEND:20161031T033000Z
URL:http://jmshockey.com/league/game/684
LOCATION:Eden Prairie Comm Ctr
SUMMARY:Beer League Racers vs. Fresh Cakes at Eden Prairie Comm Ctr (Loon S
 tate Hockey Leagues)
CLASS:PUBLIC
DTSTAMP:20260421T123748Z
END:VEVENT
END:VCALENDAR