BEGIN:VCALENDAR
VERSION:2.0
PRODID:JMS Hockey
X-PUBLISHED-TTL:P1W
BEGIN:VEVENT
UID:69e7af94b3883
DTSTART:20161024T003000Z
SEQUENCE:0
TRANSP:OPAQUE
DTEND:20161024T014500Z
URL:http://jmshockey.com/league/game/681
LOCATION:Eden Prairie Comm Ctr
SUMMARY:Peanut Butter and Celly vs. Beer League Racers at Eden Prairie Comm
  Ctr (Loon State Hockey Leagues)
CLASS:PUBLIC
DTSTAMP:20260421T121044Z
END:VEVENT
END:VCALENDAR