BEGIN:VCALENDAR
VERSION:2.0
PRODID:JMS Hockey
X-PUBLISHED-TTL:P1W
BEGIN:VEVENT
UID:69e84b4dc6214
DTSTART:20160822T003000Z
SEQUENCE:0
TRANSP:OPAQUE
DTEND:20160822T014500Z
URL:http://jmshockey.com/league/game/676
LOCATION:Eden Prairie Comm Ctr
SUMMARY:Olson's Heroes vs. Beer League Racers***** at Eden Prairie Comm Ctr
  (Loon State Hockey Leagues)
CLASS:PUBLIC
DTSTAMP:20260421T231509Z
END:VEVENT
END:VCALENDAR