BEGIN:VCALENDAR
VERSION:2.0
PRODID:JMS Hockey
X-PUBLISHED-TTL:P1W
BEGIN:VEVENT
UID:69e791e8e3374
DTSTART:20160815T011500Z
SEQUENCE:0
TRANSP:OPAQUE
DTEND:20160815T023000Z
URL:http://jmshockey.com/league/game/675
LOCATION:Eden Prairie Comm Ctr
SUMMARY:Olson's Heroes vs. The Pollock Factor II at Eden Prairie Comm Ctr (
 Loon State Hockey Leagues)
CLASS:PUBLIC
DTSTAMP:20260421T100408Z
END:VEVENT
END:VCALENDAR