BEGIN:VCALENDAR
VERSION:2.0
PRODID:JMS Hockey
X-PUBLISHED-TTL:P1W
BEGIN:VEVENT
UID:69e791d385754
DTSTART:20160808T011500Z
SEQUENCE:0
TRANSP:OPAQUE
DTEND:20160808T023000Z
URL:http://jmshockey.com/league/game/673
LOCATION:Eden Prairie Comm Ctr
SUMMARY:The Limp Stix vs. The Pollock Factor II at Eden Prairie Comm Ctr (L
 oon State Hockey Leagues)
CLASS:PUBLIC
DTSTAMP:20260421T100347Z
END:VEVENT
END:VCALENDAR