BEGIN:VCALENDAR
VERSION:2.0
PRODID:JMS Hockey
X-PUBLISHED-TTL:P1W
BEGIN:VEVENT
UID:69e7de91bf4b6
DTSTART:20160725T011500Z
SEQUENCE:0
TRANSP:OPAQUE
DTEND:20160725T023000Z
URL:http://jmshockey.com/league/game/669
LOCATION:Eden Prairie Comm Ctr
SUMMARY:Beer League Racers***** vs. The Limp Stix at Eden Prairie Comm Ctr 
 (Loon State Hockey Leagues)
CLASS:PUBLIC
DTSTAMP:20260421T153113Z
END:VEVENT
END:VCALENDAR