BEGIN:VCALENDAR
VERSION:2.0
PRODID:JMS Hockey
X-PUBLISHED-TTL:P1W
BEGIN:VEVENT
UID:69e84a3ca8b89
DTSTART:20160718T020000Z
SEQUENCE:0
TRANSP:OPAQUE
DTEND:20160718T031500Z
URL:http://jmshockey.com/league/game/667
LOCATION:Eden Prairie Comm Ctr
SUMMARY:Beer League Racers***** vs. Olson's Heroes at Eden Prairie Comm Ctr
  (Loon State Hockey Leagues)
CLASS:PUBLIC
DTSTAMP:20260421T231036Z
END:VEVENT
END:VCALENDAR