BEGIN:VCALENDAR
VERSION:2.0
PRODID:JMS Hockey
X-PUBLISHED-TTL:P1W
BEGIN:VEVENT
UID:69e7a5a0cebf4
DTSTART:20160711T020000Z
SEQUENCE:0
TRANSP:OPAQUE
DTEND:20160711T031500Z
URL:http://jmshockey.com/league/game/665
LOCATION:Eden Prairie Comm Ctr
SUMMARY:Olson's Heroes vs. The Limp Stix at Eden Prairie Comm Ctr (Loon Sta
 te Hockey Leagues)
CLASS:PUBLIC
DTSTAMP:20260421T112816Z
END:VEVENT
END:VCALENDAR