BEGIN:VCALENDAR
VERSION:2.0
PRODID:JMS Hockey
X-PUBLISHED-TTL:P1W
BEGIN:VEVENT
UID:69e84cbbd6992
DTSTART:20160620T020000Z
SEQUENCE:0
TRANSP:OPAQUE
DTEND:20160620T031500Z
URL:http://jmshockey.com/league/game/661
LOCATION:Eden Prairie Comm Ctr
SUMMARY:Olson's Heroes vs. Beer League Racers***** at Eden Prairie Comm Ctr
  (Loon State Hockey Leagues)
CLASS:PUBLIC
DTSTAMP:20260421T232115Z
END:VEVENT
END:VCALENDAR