BEGIN:VCALENDAR
VERSION:2.0
PRODID:JMS Hockey
X-PUBLISHED-TTL:P1W
BEGIN:VEVENT
UID:69e77b5cb85a5
DTSTART:20160620T014500Z
SEQUENCE:0
TRANSP:OPAQUE
DTEND:20160620T030000Z
URL:http://jmshockey.com/league/game/660
LOCATION:Eden Prairie Comm Ctr
SUMMARY:The Limp Stix vs. The Pollock Factor II at Eden Prairie Comm Ctr (L
 oon State Hockey Leagues)
CLASS:PUBLIC
DTSTAMP:20260421T082756Z
END:VEVENT
END:VCALENDAR