BEGIN:VCALENDAR
VERSION:2.0
PRODID:JMS Hockey
X-PUBLISHED-TTL:P1W
BEGIN:VEVENT
UID:69e7afd80fe9c
DTSTART:20160628T000000Z
SEQUENCE:0
TRANSP:OPAQUE
DTEND:20160628T010000Z
URL:http://jmshockey.com/league/game/645
LOCATION:Doug Woog Arena (Wakota)
SUMMARY:Net Crashers vs. J-Shots at Doug Woog Arena (Wakota) (Loon State Ho
 ckey Leagues)
CLASS:PUBLIC
DTSTAMP:20260421T121152Z
END:VEVENT
END:VCALENDAR