BEGIN:VCALENDAR
VERSION:2.0
PRODID:JMS Hockey
X-PUBLISHED-TTL:P1W
BEGIN:VEVENT
UID:69e788172ae34
DTSTART:20160808T023000Z
SEQUENCE:0
TRANSP:OPAQUE
DTEND:20160808T033000Z
URL:http://jmshockey.com/league/game/637
LOCATION:Tartan Arena
SUMMARY:Teemu's Salami vs. Uninsured Hipchecks at Tartan Arena (Loon State 
 Hockey Leagues)
CLASS:PUBLIC
DTSTAMP:20260421T092215Z
END:VEVENT
END:VCALENDAR