BEGIN:VCALENDAR
VERSION:2.0
PRODID:JMS Hockey
X-PUBLISHED-TTL:P1W
BEGIN:VEVENT
UID:69e7a7e8e069b
DTSTART:20160808T011500Z
SEQUENCE:0
TRANSP:OPAQUE
DTEND:20160808T021500Z
URL:http://jmshockey.com/league/game/636
LOCATION:Tartan Arena
SUMMARY:JagrBombs vs. Rubber Puckies at Tartan Arena (Loon State Hockey Lea
 gues)
CLASS:PUBLIC
DTSTAMP:20260421T113800Z
END:VEVENT
END:VCALENDAR