BEGIN:VCALENDAR
VERSION:2.0
PRODID:JMS Hockey
X-PUBLISHED-TTL:P1W
BEGIN:VEVENT
UID:69e78818485d4
DTSTART:20160801T023000Z
SEQUENCE:0
TRANSP:OPAQUE
DTEND:20160801T033000Z
URL:http://jmshockey.com/league/game/635
LOCATION:Tartan Arena
SUMMARY:JagrBombs vs. Uninsured Hipchecks at Tartan Arena (Loon State Hocke
 y Leagues)
CLASS:PUBLIC
DTSTAMP:20260421T092216Z
END:VEVENT
END:VCALENDAR