BEGIN:VCALENDAR
VERSION:2.0
PRODID:JMS Hockey
X-PUBLISHED-TTL:P1W
BEGIN:VEVENT
UID:69e78815f211d
DTSTART:20160801T011500Z
SEQUENCE:0
TRANSP:OPAQUE
DTEND:20160801T021500Z
URL:http://jmshockey.com/league/game/634
LOCATION:Tartan Arena
SUMMARY:Teemu's Salami vs. Rubber Puckies at Tartan Arena (Loon State Hocke
 y Leagues)
CLASS:PUBLIC
DTSTAMP:20260421T092213Z
END:VEVENT
END:VCALENDAR