BEGIN:VCALENDAR
VERSION:2.0
PRODID:JMS Hockey
X-PUBLISHED-TTL:P1W
BEGIN:VEVENT
UID:69e79a8e9d19e
DTSTART:20160725T011500Z
SEQUENCE:0
TRANSP:OPAQUE
DTEND:20160725T021500Z
URL:http://jmshockey.com/league/game/632
LOCATION:Tartan Arena
SUMMARY:Uninsured Hipchecks vs. Rubber Puckies at Tartan Arena (Loon State 
 Hockey Leagues)
CLASS:PUBLIC
DTSTAMP:20260421T104102Z
END:VEVENT
END:VCALENDAR