BEGIN:VCALENDAR
VERSION:2.0
PRODID:JMS Hockey
X-PUBLISHED-TTL:P1W
BEGIN:VEVENT
UID:69e7881918d6e
DTSTART:20160627T023000Z
SEQUENCE:0
TRANSP:OPAQUE
DTEND:20160627T033000Z
URL:http://jmshockey.com/league/game/627
LOCATION:Roseville Skating Center
SUMMARY:Teemu's Salami vs. JagrBombs at Roseville Skating Center (Loon Stat
 e Hockey Leagues)
CLASS:PUBLIC
DTSTAMP:20260421T092217Z
END:VEVENT
END:VCALENDAR