BEGIN:VCALENDAR
VERSION:2.0
PRODID:JMS Hockey
X-PUBLISHED-TTL:P1W
BEGIN:VEVENT
UID:69e78818569b1
DTSTART:20160620T023000Z
SEQUENCE:0
TRANSP:OPAQUE
DTEND:20160620T033000Z
URL:http://jmshockey.com/league/game/625
LOCATION:Roseville Skating Center
SUMMARY:Rubber Puckies vs. JagrBombs at Roseville Skating Center (Loon Stat
 e Hockey Leagues)
CLASS:PUBLIC
DTSTAMP:20260421T092216Z
END:VEVENT
END:VCALENDAR