BEGIN:VCALENDAR
VERSION:2.0
PRODID:JMS Hockey
X-PUBLISHED-TTL:P1W
BEGIN:VEVENT
UID:69e7964f3de5a
DTSTART:20160613T023000Z
SEQUENCE:0
TRANSP:OPAQUE
DTEND:20160613T033000Z
URL:http://jmshockey.com/league/game/623
LOCATION:Roseville Skating Center
SUMMARY:Teemu's Salami vs. Rubber Puckies at Roseville Skating Center (Loon
  State Hockey Leagues)
CLASS:PUBLIC
DTSTAMP:20260421T102255Z
END:VEVENT
END:VCALENDAR