BEGIN:VCALENDAR
VERSION:2.0
PRODID:JMS Hockey
X-PUBLISHED-TTL:P1W
BEGIN:VEVENT
UID:69e79a8d9ba3f
DTSTART:20160606T023000Z
SEQUENCE:0
TRANSP:OPAQUE
DTEND:20160606T033000Z
URL:http://jmshockey.com/league/game/621
LOCATION:Roseville Skating Center
SUMMARY:Rubber Puckies vs. Uninsured Hipchecks at Roseville Skating Center 
 (Loon State Hockey Leagues)
CLASS:PUBLIC
DTSTAMP:20260421T104101Z
END:VEVENT
END:VCALENDAR