BEGIN:VCALENDAR
VERSION:2.0
PRODID:JMS Hockey
X-PUBLISHED-TTL:P1W
BEGIN:VEVENT
UID:69e7cba9b5e11
DTSTART:20160808T014000Z
SEQUENCE:0
TRANSP:OPAQUE
DTEND:20160808T025000Z
URL:http://jmshockey.com/league/game/618
LOCATION:Doug Woog Arena (Wakota)
SUMMARY:Lamplighters vs. DWA UL Summer 2016 Team 3 at Doug Woog Arena (Wako
 ta) (Loon State Hockey Leagues)
CLASS:PUBLIC
DTSTAMP:20260421T141033Z
END:VEVENT
END:VCALENDAR