BEGIN:VCALENDAR
VERSION:2.0
PRODID:JMS Hockey
X-PUBLISHED-TTL:P1W
BEGIN:VEVENT
UID:69e7c3e58d918
DTSTART:20160808T002000Z
SEQUENCE:0
TRANSP:OPAQUE
DTEND:20160808T013000Z
URL:http://jmshockey.com/league/game/617
LOCATION:Doug Woog Arena (Wakota)
SUMMARY:Hatrick Swayze vs. DWA UL Summer 2016 Team 4 at Doug Woog Arena (Wa
 kota) (Loon State Hockey Leagues)
CLASS:PUBLIC
DTSTAMP:20260421T133725Z
END:VEVENT
END:VCALENDAR