BEGIN:VCALENDAR
VERSION:2.0
PRODID:JMS Hockey
X-PUBLISHED-TTL:P1W
BEGIN:VEVENT
UID:69e7afcdc3ecc
DTSTART:20160725T014000Z
SEQUENCE:0
TRANSP:OPAQUE
DTEND:20160725T025000Z
URL:http://jmshockey.com/league/game/614
LOCATION:Doug Woog Arena (Wakota)
SUMMARY:Hatrick Swayze vs. Lamplighters at Doug Woog Arena (Wakota) (Loon S
 tate Hockey Leagues)
CLASS:PUBLIC
DTSTAMP:20260421T121141Z
END:VEVENT
END:VCALENDAR