BEGIN:VCALENDAR
VERSION:2.0
PRODID:JMS Hockey
X-PUBLISHED-TTL:P1W
BEGIN:VEVENT
UID:69e7ae0c9faa0
DTSTART:20160627T002000Z
SEQUENCE:0
TRANSP:OPAQUE
DTEND:20160627T013000Z
URL:http://jmshockey.com/league/game/607
LOCATION:Doug Woog Arena (Wakota)
SUMMARY:DWA UL Summer 2016 Team 4 vs. DWA UL Summer 2016 Team 3 at Doug Woo
 g Arena (Wakota) (Loon State Hockey Leagues)
CLASS:PUBLIC
DTSTAMP:20260421T120412Z
END:VEVENT
END:VCALENDAR