BEGIN:VCALENDAR
VERSION:2.0
PRODID:JMS Hockey
X-PUBLISHED-TTL:P1W
BEGIN:VEVENT
UID:69e7af94c3e23
DTSTART:20160613T014000Z
SEQUENCE:0
TRANSP:OPAQUE
DTEND:20160613T025000Z
URL:http://jmshockey.com/league/game/604
LOCATION:Doug Woog Arena (Wakota)
SUMMARY:Lamplighters vs. DWA UL Summer 2016 Team 4 at Doug Woog Arena (Wako
 ta) (Loon State Hockey Leagues)
CLASS:PUBLIC
DTSTAMP:20260421T121044Z
END:VEVENT
END:VCALENDAR