BEGIN:VCALENDAR
VERSION:2.0
PRODID:JMS Hockey
X-PUBLISHED-TTL:P1W
BEGIN:VEVENT
UID:69e7ae09a95cc
DTSTART:20160606T002000Z
SEQUENCE:0
TRANSP:OPAQUE
DTEND:20160606T013000Z
URL:http://jmshockey.com/league/game/601
LOCATION:Doug Woog Arena (Wakota)
SUMMARY:Lamplighters vs. Hatrick Swayze at Doug Woog Arena (Wakota) (Loon S
 tate Hockey Leagues)
CLASS:PUBLIC
DTSTAMP:20260421T120409Z
END:VEVENT
END:VCALENDAR