BEGIN:VCALENDAR
VERSION:2.0
PRODID:JMS Hockey
X-PUBLISHED-TTL:P1W
BEGIN:VEVENT
UID:69e7afd8d9212
DTSTART:20160606T023000Z
SEQUENCE:0
TRANSP:OPAQUE
DTEND:20160606T033000Z
URL:http://jmshockey.com/league/game/600
LOCATION:Maple Grove
SUMMARY:LB Cakes vs. Jager Meisters at Maple Grove (Loon State Hockey Leagu
 es)
CLASS:PUBLIC
DTSTAMP:20260421T121152Z
END:VEVENT
END:VCALENDAR