BEGIN:VCALENDAR
VERSION:2.0
PRODID:JMS Hockey
X-PUBLISHED-TTL:P1W
BEGIN:VEVENT
UID:69e79a90276fc
DTSTART:20160404T020000Z
SEQUENCE:0
TRANSP:OPAQUE
DTEND:20160404T030000Z
URL:http://jmshockey.com/league/game/592
LOCATION:Maple Grove
SUMMARY:Yetis vs. Mid-Ice Crisis at Maple Grove (Loon State Hockey Leagues)
CLASS:PUBLIC
DTSTAMP:20260421T104104Z
END:VEVENT
END:VCALENDAR