BEGIN:VCALENDAR
VERSION:2.0
PRODID:JMS Hockey
X-PUBLISHED-TTL:P1W
BEGIN:VEVENT
UID:69e77b5cc3e95
DTSTART:20160614T021500Z
SEQUENCE:0
TRANSP:OPAQUE
DTEND:20160614T033000Z
URL:http://jmshockey.com/league/game/588
LOCATION:Eden Prairie Comm Ctr
SUMMARY:Zamboccini Alfredo vs. Eden Prairie Seagulls at Eden Prairie Comm C
 tr (Loon State Hockey Leagues)
CLASS:PUBLIC
DTSTAMP:20260421T082756Z
END:VEVENT
END:VCALENDAR