BEGIN:VCALENDAR
VERSION:2.0
PRODID:JMS Hockey
X-PUBLISHED-TTL:P1W
BEGIN:VEVENT
UID:69e77b5d33a57
DTSTART:20160607T010000Z
SEQUENCE:0
TRANSP:OPAQUE
DTEND:20160607T021500Z
URL:http://jmshockey.com/league/game/585
LOCATION:Eden Prairie Comm Ctr
SUMMARY:Zamboccini Alfredo vs. Team 5 hole at Eden Prairie Comm Ctr (Loon S
 tate Hockey Leagues)
CLASS:PUBLIC
DTSTAMP:20260421T082757Z
END:VEVENT
END:VCALENDAR