BEGIN:VCALENDAR
VERSION:2.0
PRODID:JMS Hockey
X-PUBLISHED-TTL:P1W
BEGIN:VEVENT
UID:69e77b5d7f708
DTSTART:20160510T021500Z
SEQUENCE:0
TRANSP:OPAQUE
DTEND:20160510T033000Z
URL:http://jmshockey.com/league/game/582
LOCATION:Eden Prairie Comm Ctr
SUMMARY:Team 5 hole vs. Zamboccini Alfredo at Eden Prairie Comm Ctr (Loon S
 tate Hockey Leagues)
CLASS:PUBLIC
DTSTAMP:20260421T082757Z
END:VEVENT
END:VCALENDAR