BEGIN:VCALENDAR
VERSION:2.0
PRODID:JMS Hockey
X-PUBLISHED-TTL:P1W
BEGIN:VEVENT
UID:69e78818b15e6
DTSTART:20160510T004500Z
SEQUENCE:0
TRANSP:OPAQUE
DTEND:20160510T020000Z
URL:http://jmshockey.com/league/game/581
LOCATION:Eden Prairie Comm Ctr
SUMMARY:Eden Prairie Seagulls vs. Minnesota Mild* at Eden Prairie Comm Ctr 
 (Loon State Hockey Leagues)
CLASS:PUBLIC
DTSTAMP:20260421T092216Z
END:VEVENT
END:VCALENDAR