BEGIN:VCALENDAR
VERSION:2.0
PRODID:JMS Hockey
X-PUBLISHED-TTL:P1W
BEGIN:VEVENT
UID:69e77b72d8bbe
DTSTART:20160503T021500Z
SEQUENCE:0
TRANSP:OPAQUE
DTEND:20160503T033000Z
URL:http://jmshockey.com/league/game/580
LOCATION:Eden Prairie Comm Ctr
SUMMARY:Zamboccini Alfredo vs. Minnesota Mild* at Eden Prairie Comm Ctr (Lo
 on State Hockey Leagues)
CLASS:PUBLIC
DTSTAMP:20260421T082818Z
END:VEVENT
END:VCALENDAR