BEGIN:VCALENDAR
VERSION:2.0
PRODID:JMS Hockey
X-PUBLISHED-TTL:P1W
BEGIN:VEVENT
UID:69e7cd2327eec
DTSTART:20140529T014500Z
SEQUENCE:0
TRANSP:OPAQUE
DTEND:20140529T014500Z
URL:http://jmshockey.com/league/game/57
LOCATION:Eden Prairie Comm Ctr
SUMMARY:The Dekes of Hazard vs. Original Honey Badgers at Eden Prairie Comm
  Ctr (Loon State Hockey Leagues)
CLASS:PUBLIC
DTSTAMP:20260421T141651Z
END:VEVENT
END:VCALENDAR