BEGIN:VCALENDAR
VERSION:2.0
PRODID:JMS Hockey
X-PUBLISHED-TTL:P1W
BEGIN:VEVENT
UID:69e7ae0828a1f
DTSTART:20160404T004500Z
SEQUENCE:0
TRANSP:OPAQUE
DTEND:20160404T014500Z
URL:http://jmshockey.com/league/game/555
LOCATION:Maple Grove
SUMMARY:Inglewood Jacks vs. Jager Meisters at Maple Grove (Loon State Hocke
 y Leagues)
CLASS:PUBLIC
DTSTAMP:20260421T120408Z
END:VEVENT
END:VCALENDAR