BEGIN:VCALENDAR
VERSION:2.0
PRODID:JMS Hockey
X-PUBLISHED-TTL:P1W
BEGIN:VEVENT
UID:69e7afd9acff5
DTSTART:20160411T000000Z
SEQUENCE:0
TRANSP:OPAQUE
DTEND:20160411T011000Z
URL:http://jmshockey.com/league/game/549
LOCATION:Inver Grove Heights Community Center
SUMMARY:Hatrick Swayze vs. Shapslots at Inver Grove Heights Community Cente
 r (Loon State Hockey Leagues)
CLASS:PUBLIC
DTSTAMP:20260421T121153Z
END:VEVENT
END:VCALENDAR