BEGIN:VCALENDAR
VERSION:2.0
PRODID:JMS Hockey
X-PUBLISHED-TTL:P1W
BEGIN:VEVENT
UID:69e7ba2115a85
DTSTART:20160404T000000Z
SEQUENCE:0
TRANSP:OPAQUE
DTEND:20160404T011000Z
URL:http://jmshockey.com/league/game/547
LOCATION:Inver Grove Heights Community Center
SUMMARY:Dream Team 3 vs. Hatrick Swayze at Inver Grove Heights Community Ce
 nter (Loon State Hockey Leagues)
CLASS:PUBLIC
DTSTAMP:20260421T125545Z
END:VEVENT
END:VCALENDAR